BEGIN:VCALENDAR
VERSION:2.0
PRODID:icalendar-ruby
CALSCALE:GREGORIAN
BEGIN:VEVENT
DTSTAMP:20260421T105314Z
UID:826c328e-a1b4-4d21-85f5-9e8d3de02c9a
DTSTART;VALUE=DATE:20210728
DESCRIPTION:Property ID# 513824\, Time: 12:00PM
SUMMARY:Auction for 
END:VEVENT
END:VCALENDAR
