BEGIN:VCALENDAR
VERSION:2.0
PRODID:icalendar-ruby
CALSCALE:GREGORIAN
BEGIN:VEVENT
DTSTAMP:20260420T122815Z
UID:85f98c79-3d4a-4864-8b60-9b3d606ac741
DTSTART;VALUE=DATE:20220630
DESCRIPTION:Property ID# 537707\, Locatoin: Harcourts Gold Papanui\, 471 Pa
 panui Road\, Christchurch. (unless sold prior)\, Time: 10:00AM
SUMMARY:Auction for 
END:VEVENT
END:VCALENDAR
