BEGIN:VCALENDAR
VERSION:2.0
PRODID:icalendar-ruby
CALSCALE:GREGORIAN
BEGIN:VEVENT
DTSTAMP:20260419T115514Z
UID:697fd2f8-f623-4b17-870e-7cbf87dce1ad
DTSTART;VALUE=DATE:20221006
DESCRIPTION:Property ID# 543846\, Locatoin: 98 Moorhouse Avenue\, Time: 11:
 00AM
SUMMARY:Auction for 
END:VEVENT
END:VCALENDAR
