BEGIN:VCALENDAR
VERSION:2.0
PRODID:icalendar-ruby
CALSCALE:GREGORIAN
BEGIN:VEVENT
DTSTAMP:20260420T105222Z
UID:fc835acc-717d-4daf-9ac5-3f5ca9c27681
DTSTART;VALUE=DATE:20241128
DESCRIPTION:Property ID# 583832\, Locatoin: Harcourts Gold Auction Rooms\, 
 471 Papanui Road (unless sold prior)\, Time: 10:00AM
SUMMARY:Auction for 
END:VEVENT
END:VCALENDAR
