BEGIN:VCALENDAR
VERSION:2.0
PRODID:icalendar-ruby
CALSCALE:GREGORIAN
BEGIN:VEVENT
DTSTAMP:20260420T093407Z
UID:6d77fe15-8203-49ae-8c54-ce9c6fb673da
DTSTART;VALUE=DATE:20250313
DESCRIPTION:Property ID# 588182\, Locatoin: 471 Papanui Road\, Time: 10:00A
 M
SUMMARY:Auction for 
END:VEVENT
END:VCALENDAR
