BEGIN:VCALENDAR
VERSION:2.0
PRODID:icalendar-ruby
CALSCALE:GREGORIAN
BEGIN:VEVENT
DTSTAMP:20260419T170920Z
UID:cea94879-d385-48d2-9ca7-f9073fed1081
DTSTART;VALUE=DATE:20250911
DESCRIPTION:Property ID# 595399\, Locatoin: 471 Papanui Road\, Gold Auction
  Rooms (USP)\, Time: 10:00AM
SUMMARY:Auction for 
END:VEVENT
END:VCALENDAR
