BEGIN:VCALENDAR
VERSION:2.0
PRODID:icalendar-ruby
CALSCALE:GREGORIAN
BEGIN:VEVENT
DTSTAMP:20260423T145615Z
UID:ffb09dff-2869-4aa0-8e3a-432e97b46dcb
DTSTART;VALUE=DATE:20250910
DESCRIPTION:Property ID# 596236\, Time: 1:00PM
SUMMARY:Auction for 
END:VEVENT
END:VCALENDAR
