BEGIN:VCALENDAR
VERSION:2.0
PRODID:icalendar-ruby
CALSCALE:GREGORIAN
BEGIN:VEVENT
DTSTAMP:20260419T171012Z
UID:e530bcfa-6ec2-4236-82e0-cb464dc28178
DTSTART;VALUE=DATE:20251023
DESCRIPTION:Property ID# 597728\, Locatoin: 471 Papanui Road\, Gold Auction
  Rooms (USP)\, Time: 10:00AM
SUMMARY:Auction for 
END:VEVENT
END:VCALENDAR
