BEGIN:VCALENDAR
VERSION:2.0
PRODID:icalendar-ruby
CALSCALE:GREGORIAN
BEGIN:VEVENT
DTSTAMP:20260419T171047Z
UID:47c9ced1-095b-4ac3-b0e5-8d5f01ec13a2
DTSTART;VALUE=DATE:20251106
DESCRIPTION:Property ID# 598299\, Locatoin: 471 Papanui Road\, Gold Auction
  Rooms (USP)\, Time: 10:00AM
SUMMARY:Auction for 
END:VEVENT
END:VCALENDAR
