BEGIN:VCALENDAR
VERSION:2.0
PRODID:icalendar-ruby
CALSCALE:GREGORIAN
BEGIN:VEVENT
DTSTAMP:20260423T145307Z
UID:328d0418-d540-4f0d-be17-9c90fbf34317
DTSTART;VALUE=DATE:20251203
DESCRIPTION:Property ID# 600508\, Time: 1:00PM
SUMMARY:Auction for 
END:VEVENT
END:VCALENDAR
