BEGIN:VCALENDAR
VERSION:2.0
PRODID:icalendar-ruby
CALSCALE:GREGORIAN
BEGIN:VEVENT
DTSTAMP:20260419T165639Z
UID:5ebe8daa-71fc-43ae-8233-af1d054b314d
DTSTART;VALUE=DATE:20260219
DESCRIPTION:Property ID# 601623\, Locatoin: 471 Papanui Road\, Gold Auction
  Rooms (USP)\, Time: 10:00AM
SUMMARY:Auction for 
END:VEVENT
END:VCALENDAR
