BEGIN:VCALENDAR
VERSION:2.0
PRODID:icalendar-ruby
CALSCALE:GREGORIAN
BEGIN:VEVENT
DTSTAMP:20260423T145307Z
UID:f1bff962-21e1-4cf8-89a7-8c7bc6cf238a
DTSTART;VALUE=DATE:20260423
DESCRIPTION:Property ID# 605920\, Time: 1:00PM
SUMMARY:Auction for 2/176 Geraldine Street
END:VEVENT
END:VCALENDAR
