BEGIN:VCALENDAR
VERSION:2.0
PRODID:icalendar-ruby
CALSCALE:GREGORIAN
BEGIN:VEVENT
DTSTAMP:20260420T134833Z
UID:f07a1c80-542a-4696-b296-c1d436a4dbf2
DTSTART;TZID=Pacific/Auckland:20260419T110000
DTEND;TZID=Pacific/Auckland:20260419T113000
DESCRIPTION:Property ID# 605867
SUMMARY:Openhome for 151 Infinity Drive
END:VEVENT
END:VCALENDAR
