BEGIN:VCALENDAR
VERSION:2.0
PRODID:icalendar-ruby
CALSCALE:GREGORIAN
BEGIN:VEVENT
DTSTAMP:20260420T135108Z
UID:c21f8d4f-571c-42c5-aeef-b2fd6467ccb7
DTSTART;TZID=Pacific/Auckland:20260503T103000
DTEND;TZID=Pacific/Auckland:20260503T110000
DESCRIPTION:Property ID# 605470
SUMMARY:Openhome for 365 Terrace Road
END:VEVENT
END:VCALENDAR
