BEGIN:VCALENDAR
VERSION:2.0
PRODID:icalendar-ruby
CALSCALE:GREGORIAN
BEGIN:VEVENT
DTSTAMP:20260423T151400Z
UID:746dfea4-dc88-4a65-b66e-966c678211ad
DTSTART;TZID=Pacific/Auckland:20260426T111500
DTEND;TZID=Pacific/Auckland:20260426T120000
DESCRIPTION:Property ID# 606797
SUMMARY:Openhome for 46 Veitches Road
END:VEVENT
END:VCALENDAR
